BEGIN:VCALENDAR
VERSION:2.0
PRODID:-//Vermont Trails and Greenways - ECPv6.15.20//NONSGML v1.0//EN
CALSCALE:GREGORIAN
METHOD:PUBLISH
X-WR-CALNAME:Vermont Trails and Greenways
X-ORIGINAL-URL:https://vermonttgc.org
X-WR-CALDESC:Events for Vermont Trails and Greenways
REFRESH-INTERVAL;VALUE=DURATION:PT1H
X-Robots-Tag:noindex
X-PUBLISHED-TTL:PT1H
BEGIN:VTIMEZONE
TZID:America/New_York
BEGIN:DAYLIGHT
TZOFFSETFROM:-0500
TZOFFSETTO:-0400
TZNAME:EDT
DTSTART:20240310T070000
END:DAYLIGHT
BEGIN:STANDARD
TZOFFSETFROM:-0400
TZOFFSETTO:-0500
TZNAME:EST
DTSTART:20241103T060000
END:STANDARD
BEGIN:DAYLIGHT
TZOFFSETFROM:-0500
TZOFFSETTO:-0400
TZNAME:EDT
DTSTART:20250309T070000
END:DAYLIGHT
BEGIN:STANDARD
TZOFFSETFROM:-0400
TZOFFSETTO:-0500
TZNAME:EST
DTSTART:20251102T060000
END:STANDARD
BEGIN:DAYLIGHT
TZOFFSETFROM:-0500
TZOFFSETTO:-0400
TZNAME:EDT
DTSTART:20260308T070000
END:DAYLIGHT
BEGIN:STANDARD
TZOFFSETFROM:-0400
TZOFFSETTO:-0500
TZNAME:EST
DTSTART:20261101T060000
END:STANDARD
END:VTIMEZONE
BEGIN:VEVENT
DTSTART;TZID=America/New_York:20250402T120000
DTEND;TZID=America/New_York:20250402T130000
DTSTAMP:20260420T045249
CREATED:20250211T123235Z
LAST-MODIFIED:20250325T111704Z
UID:1710-1743595200-1743598800@vermonttgc.org
SUMMARY:Authentic Accessibility: Disability Leadership & Inclusion
DESCRIPTION:In order to make effective real-world change\, accessibility efforts must include people with disabilities as leaders and change-makers. After all\, we are the experts on disability and access. Learn how to authentically recruit\, survey\, include\, and center people with disabilities in your organizational accessibility efforts. Remember: nothing about us without us. Led by Director of Web\, Accessibility\, & Communications. UVM Center on Disability & Community Inclusion (CDCI). Register here . Zoom link to the event here \n 
URL:https://vermonttgc.org/event/authentic-accessibility-disability-leadership-inclusion/
LOCATION:zoom
CATEGORIES:Webinar
ATTACH;FMTTYPE=image/jpeg:https://vermonttgc.org/wp-content/uploads/2025/02/TAH-Spring-Webinar-aMtb-IG-Graphic-2.jpg
END:VEVENT
BEGIN:VEVENT
DTSTART;TZID=America/New_York:20250402T160000
DTEND;TZID=America/New_York:20250402T170000
DTSTAMP:20260420T045249
CREATED:20250327T143229Z
LAST-MODIFIED:20250327T143229Z
UID:1800-1743609600-1743613200@vermonttgc.org
SUMMARY:Bike\, Ped\, and Trail Counts: What they are and what you can do with the data
DESCRIPTION:Interested in learning about trail counts – what they are\, why they are important\, and how they can inform planning and funding? Come to this information webinar. Though the data is specific to Windham County\, the process and value shared is relevant to any trail organization and region. \n Learn about the data Windham Regional Commission has collected on the bike and ped use of southeastern Vermont’s sidewalks\, trails and roads from Jeff Nugent\, WRC’s GIS Planner. \nLearn about economic analysis of the data from Drew Pollock-Bruce\, owner and founder of Vermont-based CRO Planning and Design\, and a national expert on trail counts and economic impact. Zoom link \n 
URL:https://vermonttgc.org/event/bike-ped-and-trail-counts-what-they-are-and-what-you-can-do-with-the-data/
LOCATION:zoom
CATEGORIES:Webinar
ATTACH;FMTTYPE=image/jpeg:https://vermonttgc.org/wp-content/uploads/2025/03/Valley-Trail-bike-and-ped.jpg
END:VEVENT
BEGIN:VEVENT
DTSTART;TZID=America/New_York:20250429T120000
DTEND;TZID=America/New_York:20250429T130000
DTSTAMP:20260420T045249
CREATED:20250211T123449Z
LAST-MODIFIED:20250428T173520Z
UID:1711-1745928000-1745931600@vermonttgc.org
SUMMARY:Assessing trails: what's a trail assessment\, what's an audit\, what you can do\, ahead of time\, and when to bring in a professional
DESCRIPTION:What does ‘conducting a trail assessment’ really mean? Learn from the experts. Join Upper Valley Trails Alliance (UVTA)\, Vermont Mountain Biking Association (VMBA)\, and Northern Forest Canoe Trail (NFCT) for this lunchtime webinar. They’ll show you how they assess pedestrian\, aquatic\, and mountain bike trails for different user groups\, what an assessment report looks like\, and how it can be used to recruit volunteers\, hire a trail builder\, and get funding to do the work. Led by Russ Hirschler\, UVTA; Nick Bennette\, VMBA; and Alex Delhagen\, NFCT. Join with zoom and Register here.
URL:https://vermonttgc.org/event/assessing-trails-whats-a-trail-assessment-whats-an-audit-what-you-can-do-ahead-of-time-and-when-to-bring-in-a-professional/
LOCATION:zoom
CATEGORIES:Webinar
END:VEVENT
END:VCALENDAR