BEGIN:VCALENDAR
VERSION:2.0
PRODID:-//Vermont Trails and Greenways - ECPv6.15.20//NONSGML v1.0//EN
CALSCALE:GREGORIAN
METHOD:PUBLISH
X-WR-CALNAME:Vermont Trails and Greenways
X-ORIGINAL-URL:https://vermonttgc.org
X-WR-CALDESC:Events for Vermont Trails and Greenways
REFRESH-INTERVAL;VALUE=DURATION:PT1H
X-Robots-Tag:noindex
X-PUBLISHED-TTL:PT1H
BEGIN:VTIMEZONE
TZID:America/New_York
BEGIN:DAYLIGHT
TZOFFSETFROM:-0500
TZOFFSETTO:-0400
TZNAME:EDT
DTSTART:20230312T070000
END:DAYLIGHT
BEGIN:STANDARD
TZOFFSETFROM:-0400
TZOFFSETTO:-0500
TZNAME:EST
DTSTART:20231105T060000
END:STANDARD
BEGIN:DAYLIGHT
TZOFFSETFROM:-0500
TZOFFSETTO:-0400
TZNAME:EDT
DTSTART:20240310T070000
END:DAYLIGHT
BEGIN:STANDARD
TZOFFSETFROM:-0400
TZOFFSETTO:-0500
TZNAME:EST
DTSTART:20241103T060000
END:STANDARD
BEGIN:DAYLIGHT
TZOFFSETFROM:-0500
TZOFFSETTO:-0400
TZNAME:EDT
DTSTART:20250309T070000
END:DAYLIGHT
BEGIN:STANDARD
TZOFFSETFROM:-0400
TZOFFSETTO:-0500
TZNAME:EST
DTSTART:20251102T060000
END:STANDARD
END:VTIMEZONE
BEGIN:VTIMEZONE
TZID:America/Los_Angeles
BEGIN:DAYLIGHT
TZOFFSETFROM:-0800
TZOFFSETTO:-0700
TZNAME:PDT
DTSTART:20230312T100000
END:DAYLIGHT
BEGIN:STANDARD
TZOFFSETFROM:-0700
TZOFFSETTO:-0800
TZNAME:PST
DTSTART:20231105T090000
END:STANDARD
BEGIN:DAYLIGHT
TZOFFSETFROM:-0800
TZOFFSETTO:-0700
TZNAME:PDT
DTSTART:20240310T100000
END:DAYLIGHT
BEGIN:STANDARD
TZOFFSETFROM:-0700
TZOFFSETTO:-0800
TZNAME:PST
DTSTART:20241103T090000
END:STANDARD
BEGIN:DAYLIGHT
TZOFFSETFROM:-0800
TZOFFSETTO:-0700
TZNAME:PDT
DTSTART:20250309T100000
END:DAYLIGHT
BEGIN:STANDARD
TZOFFSETFROM:-0700
TZOFFSETTO:-0800
TZNAME:PST
DTSTART:20251102T090000
END:STANDARD
END:VTIMEZONE
BEGIN:VEVENT
DTSTART;TZID=America/New_York:20241112T143000
DTEND;TZID=America/New_York:20241112T153000
DTSTAMP:20260420T082911
CREATED:20241107T212221Z
LAST-MODIFIED:20241107T212725Z
UID:1576-1731421800-1731425400@vermonttgc.org
SUMMARY:LWCF Grant Program Webinar: Pre-Application Materials
DESCRIPTION:LWCF Grant Program Webinar: Pre-Application Materials | Thursday\, November 12\, 2024\, 2:30-3:30 PM \nThe webinar will provide technical and content guidance about how to complete the specific materials required for the pre-application phase\, including the workplan\, budget\, resiliency risk assessment\, and permitting tools. There will be time at the end of the session for questions from attendees related to the templates and resources. The recording will be posted afterward. Register for the webinar.
URL:https://vermonttgc.org/event/lwcf-grant-program-webinar-pre-application-materials/
LOCATION:zoom
CATEGORIES:Webinar
END:VEVENT
BEGIN:VEVENT
DTSTART;TZID=America/Los_Angeles:20241024T100000
DTEND;TZID=America/Los_Angeles:20241024T113000
DTSTAMP:20260420T082911
CREATED:20240812T191002Z
LAST-MODIFIED:20240812T191002Z
UID:1291-1729764000-1729769400@vermonttgc.org
SUMMARY:Making Organizations Inclusive: Stories of Deaf Gain in the Outdoors
DESCRIPTION:This webinar will provide you with some of the needed tools\, understanding\, and resources of the Deaf and Hard of Hearing so that you can be more inclusive\, respectful\, and successful.
URL:https://vermonttgc.org/event/making-organizations-inclusive-stories-of-deaf-gain-in-the-outdoors/
CATEGORIES:Webinar
ATTACH;FMTTYPE=image/png:https://vermonttgc.org/wp-content/uploads/2024/08/american-trails-webinar-logo.png
ORGANIZER;CN="American Trails":MAILTO:trailhead@americantrails.org
END:VEVENT
BEGIN:VEVENT
DTSTART;TZID=America/New_York:20241022T140000
DTEND;TZID=America/New_York:20241022T150000
DTSTAMP:20260420T082911
CREATED:20241007T171309Z
LAST-MODIFIED:20241007T171335Z
UID:1551-1729605600-1729609200@vermonttgc.org
SUMMARY:Land and Water Conservation Fund (LWCF) launch webinar
DESCRIPTION:The Land and Water Conservation Fund Program (LWCF) became effective in January 1965 to create parks and open spaces\, protect wilderness and forests\, and provide outdoor recreation opportunities. Funds are derived from federal recreation fees\, Outer Continental Shelf (OCS) revenues from leasing oil and gas sites in coastal waters\, federal surplus real property sales\, and a portion of federal motorboat fuel taxes. Funds are apportioned to federal agencies\, and to the 50 states and 6 territories through the U.S. Department of the Interior National Park Service (NPS). In Vermont\, LWCF is administered by the Vermont Department of Forests\, Parks & Recreation. LWCF grants provide up to 50% matching assistance to the state and local governments. \nProject applications are scored and ranked by a project application ranking committee following the Open Project Selection Process (OPSP) using established criteria. The resulting recommendations are reviewed and approved by the ranking committee. All applications must meet an identified need within the Statewide Comprehensive Outdoor Recreation Plan (SCORP) and address local and regional needs. Municipalities must agree to dedicate the park or area where the project is located for public outdoor recreational use in perpetuity. In addition\, the grantee must also agree to develop\, operate\, and maintain the development to acceptable National Park Service (NPS) standards for public outdoor recreation. Grants are subject to approval by the National Park Service (NPS). \nFPR is offering a webinar that will include a presentation explaining the goals of the grant program\, an overview of the process\, and eligible activities to help inform project planning. There will be time at the end of the session for questions from attendees related to project planning and design.  This session will be recorded.  All registered attendees will receive a copy of the recording via email afterward.  The recording will also be posted afterward on the LWCF webpage.
URL:https://vermonttgc.org/event/1551/
CATEGORIES:Webinar
END:VEVENT
BEGIN:VEVENT
DTSTART;TZID=America/New_York:20241015T130000
DTEND;TZID=America/New_York:20241015T140000
DTSTAMP:20260420T082911
CREATED:20241007T171015Z
LAST-MODIFIED:20241007T171646Z
UID:1549-1728997200-1729000800@vermonttgc.org
SUMMARY:Recreation Trails Program (RTP) Launch Webinar
DESCRIPTION:Recreational Trails Program (RTP) grants are federally funded on an annual basis through the United States Department of Transportation’s Federal Highway Administration (FHWA) and are administered at the State level in Vermont through the Department of Forests\, Parks\, and Recreation (FPR). FPR makes RTP funds available to Vermont communities for the development and maintenance of public recreational trails\, for both motorized and non-motorized recreation. In the 2024 grant round\, FPR anticipates awarding approximately $500\,000 to maintain and build trails across the state of Vermont. \nFPR is hosting a webinar that will include a presentation explaining the goals of the grant program\, an overview of the process\, and eligible activities to help inform project planning. There will be time at the end of the session for questions from attendees related to project planning and design. \nThis session will be recorded.  All registered attendees will receive a copy of the recording via email afterward.  The recording will also be posted afterward on the RTP webpage.
URL:https://vermonttgc.org/event/recreation-trails-program-rtp-launch-webinar/
CATEGORIES:Webinar
END:VEVENT
BEGIN:VEVENT
DTSTART;TZID=America/New_York:20241009T090000
DTEND;TZID=America/New_York:20241009T110000
DTSTAMP:20260420T082911
CREATED:20241007T193038Z
LAST-MODIFIED:20241007T193038Z
UID:1553-1728464400-1728471600@vermonttgc.org
SUMMARY:VTGC Board meeting
DESCRIPTION:Board meetings are held the second Wednesday of the month from 9 -11 am. Meetings include a featured topic\, updates from FPR\, a discussion about our legislative work\, and strategic plans going forward to support our membership. Reach out to info@vermonttgc.org for more information.
URL:https://vermonttgc.org/event/vtgc-board-meeting/
LOCATION:zoom
END:VEVENT
BEGIN:VEVENT
DTSTART;TZID=America/Los_Angeles:20240926T100000
DTEND;TZID=America/Los_Angeles:20240926T110000
DTSTAMP:20260420T082911
CREATED:20240812T190922Z
LAST-MODIFIED:20240812T190922Z
UID:1290-1727344800-1727348400@vermonttgc.org
SUMMARY:Assessing and Advancing Belonging: Overcoming Roadblocks to Inclusion
DESCRIPTION:This interactive workshop provides a framework for honestly evaluating your organization’s or community’s stage of inclusion.
URL:https://vermonttgc.org/event/assessing-and-advancing-belonging-overcoming-roadblocks-to-inclusion/
CATEGORIES:Webinar
ATTACH;FMTTYPE=image/png:https://vermonttgc.org/wp-content/uploads/2024/08/american-trails-webinar-logo.png
ORGANIZER;CN="American Trails":MAILTO:trailhead@americantrails.org
END:VEVENT
BEGIN:VEVENT
DTSTART;TZID=America/New_York:20240925T000000
DTEND;TZID=America/New_York:20240926T000000
DTSTAMP:20260420T082911
CREATED:20240611T195925Z
LAST-MODIFIED:20240826T154122Z
UID:566-1727222400-1727308800@vermonttgc.org
SUMMARY:Vermont Trails Symposium 2024
DESCRIPTION:81st Vermont Conference on Recreation + Trails Symposium: September 25 & 26\, 2024\n\n\n\nWe are thrilled to join forces with the Vermont Recreation and Parks Association (VRPA) to host this two-day conference dedicated to trail and recreation professionals and volunteers. With more than two dozen education and networking events\, there’s something for everyone – from the grittiest trail worker to the volunteer town trails board member. View the full education session schedule here. \nNick Bennette (VMBA) & Jeff Alexander (Vermont Adaptive) will be leading ‘Enhancing Trail Accessibility: a Hands-On Adaptive Assessment’ and Sharon Plumb (VTGC) and Stephen Engle (Community Geographics) will be leading ‘Trail Accessibility Hub.’ \n\n\n\nKelly Brush\, founder of the Kelly Brush Foundation\, is this year’s keynote. Keep your eyes on our enews and website – registration is open! \nScholarships are available.
URL:https://vermonttgc.org/event/trails-symposium-2024/
LOCATION:Killington Grand Hotel\, 228 E Mountain Road\, Killington\, VT\, 05751\, United States
CATEGORIES:Conference
END:VEVENT
BEGIN:VEVENT
DTSTART;TZID=America/New_York:20240913T160000
DTEND;TZID=America/New_York:20240913T173000
DTSTAMP:20260420T082911
CREATED:20240904T165713Z
LAST-MODIFIED:20240904T165831Z
UID:1471-1726243200-1726248600@vermonttgc.org
SUMMARY:NEK Candidate Forum
DESCRIPTION:VOBA\, Kingdom Trail Association\, Vermont Trails & Greenways Council\, and the Vermont Ski Areas Association will host a community conversation for legislative candidates and their constituents from Caledonia\, Essex and Orleans counties on Friday\, September 13 from 4:00 – 5:30 pm at the Hub Trailside in Lyndonville. RSVP by 9/8.
URL:https://vermonttgc.org/event/nek-candidate-forum/
END:VEVENT
BEGIN:VEVENT
DTSTART;TZID=America/Los_Angeles:20240905T100000
DTEND;TZID=America/Los_Angeles:20240905T110000
DTSTAMP:20260420T082911
CREATED:20240812T190827Z
LAST-MODIFIED:20240812T190827Z
UID:1289-1725530400-1725534000@vermonttgc.org
SUMMARY:Future of Facilitated Recreation
DESCRIPTION:This session will explore challenges\, opportunities\, conversations and connections that are at the forefront of the profession of participant-facing facilitated recreation.
URL:https://vermonttgc.org/event/future-of-facilitated-recreation/
CATEGORIES:Webinar
ATTACH;FMTTYPE=image/png:https://vermonttgc.org/wp-content/uploads/2024/08/american-trails-webinar-logo.png
ORGANIZER;CN="American Trails":MAILTO:trailhead@americantrails.org
END:VEVENT
END:VCALENDAR