BEGIN:VCALENDAR
VERSION:2.0
PRODID:-//Vermont Trails and Greenways - ECPv6.15.20//NONSGML v1.0//EN
CALSCALE:GREGORIAN
METHOD:PUBLISH
X-ORIGINAL-URL:https://vermonttgc.org
X-WR-CALDESC:Events for Vermont Trails and Greenways
REFRESH-INTERVAL;VALUE=DURATION:PT1H
X-Robots-Tag:noindex
X-PUBLISHED-TTL:PT1H
BEGIN:VTIMEZONE
TZID:America/New_York
BEGIN:DAYLIGHT
TZOFFSETFROM:-0500
TZOFFSETTO:-0400
TZNAME:EDT
DTSTART:20250309T070000
END:DAYLIGHT
BEGIN:STANDARD
TZOFFSETFROM:-0400
TZOFFSETTO:-0500
TZNAME:EST
DTSTART:20251102T060000
END:STANDARD
BEGIN:DAYLIGHT
TZOFFSETFROM:-0500
TZOFFSETTO:-0400
TZNAME:EDT
DTSTART:20260308T070000
END:DAYLIGHT
BEGIN:STANDARD
TZOFFSETFROM:-0400
TZOFFSETTO:-0500
TZNAME:EST
DTSTART:20261101T060000
END:STANDARD
BEGIN:DAYLIGHT
TZOFFSETFROM:-0500
TZOFFSETTO:-0400
TZNAME:EDT
DTSTART:20270314T070000
END:DAYLIGHT
BEGIN:STANDARD
TZOFFSETFROM:-0400
TZOFFSETTO:-0500
TZNAME:EST
DTSTART:20271107T060000
END:STANDARD
END:VTIMEZONE
BEGIN:VEVENT
DTSTART;VALUE=DATE:20261021
DTEND;VALUE=DATE:20261023
DTSTAMP:20260419T232638
CREATED:20260305T153010Z
LAST-MODIFIED:20260404T124451Z
UID:2834-1792540800-1792713599@vermonttgc.org
SUMMARY:83rd Conference on Parks\, Trails\, and Recreation
DESCRIPTION:The Vermont Recreation and Parks Association (VRPA) and the Vermont Trails & Greenways Council (VTGC) are excited to host the 83rd Vermont Conference on Parks\, Trails\, and Recreation\, Vermont’s premier networking and skill-building event. We anticipate this year’s conference could attract up to 200 volunteers and professional leaders\, administrative staff\, fundraisers\, program directors\, and field staff who manage municipal programs and facilities\, run summer camps and pool programs\, build and maintain trails\, and improve access to recreation throughout Vermont. We hope to see you in the fall! Request for session presenters is due 4/30. Learn more here.
URL:https://vermonttgc.org/event/83rd-conference-on-parks-trails-and-recreation/
LOCATION:Jay Peak Resort
CATEGORIES:Conference
ATTACH;FMTTYPE=image/jpeg:https://vermonttgc.org/wp-content/uploads/2026/03/Save-the-Date-parksrec-pic.jpg
END:VEVENT
END:VCALENDAR